BEGIN:VCALENDAR
VERSION:2.0
PRODID:-//spokane.beer//events//EN
CALSCALE:GREGORIAN
METHOD:PUBLISH
BEGIN:VEVENT
UID:eafaf3f5-57a5-494b-a586-a5fcd9b1bcae@spokane.beer
DTSTAMP:20260420T085334Z
DTSTART:20260420T190000Z
DTEND:20260420T220000Z
SUMMARY:Tap Takeover at River City Alehouse
DESCRIPTION:6 guest taps\, local food truck\, first 50 get branded glasswar
 e.
LOCATION:River City Alehouse\, Downtown\, Spokane WA
URL:https://spokane.beer/events/tap-takeover-river-city
END:VEVENT
END:VCALENDAR
