BEGIN:VCALENDAR
VERSION:2.0
PRODID:-//spokane.beer//events//EN
CALSCALE:GREGORIAN
METHOD:PUBLISH
BEGIN:VEVENT
UID:57821fd9-3a22-4a20-bbcd-69760ecac7a2@spokane.beer
DTSTAMP:20260420T085334Z
DTSTART:20260420T183000Z
DTEND:20260420T213000Z
SUMMARY:Live Music at Pine & Pour
DESCRIPTION:Acoustic set\, local cider guest taps\, patio heaters rolling.
LOCATION:Pine & Pour\, Kendall Yards\, Spokane WA
URL:https://spokane.beer/events/live-music-pine-pour
END:VEVENT
END:VCALENDAR
